BEGIN:VCALENDAR
VERSION:2.0
PRODID:-//A Pedibus//NONSGML kigkonsult.se iCalcreator 2.41.92//
CALSCALE:GREGORIAN
METHOD:PUBLISH
UID:30313533-6364-4361-b831-646337333534
X-WR-CALNAME:iCagenda
X-WR-CALDESC:Event Management Extension for Joomla!
X-WR-RELCALID:3E26604A-50F4-4449-8B3E-E4F4932D05B5
X-WR-TIMEZONE:Europe/Paris
BEGIN:VTIMEZONE
TZID:Europe/Paris
TZUNTIL:20280326T010000Z
BEGIN:STANDARD
TZNAME:CET
DTSTART:20251026T030000
TZOFFSETFROM:+0200
TZOFFSETTO:+0100
RDATE:20261025T030000
RDATE:20271031T030000
END:STANDARD
BEGIN:DAYLIGHT
TZNAME:CEST
DTSTART:20260329T020000
TZOFFSETFROM:+0100
TZOFFSETTO:+0200
RDATE:20270328T020000
END:DAYLIGHT
END:VTIMEZONE
BEGIN:VEVENT
UID:65373732-3738-4166-b637-343665333037
DTSTAMP:20260421T124004Z
CATEGORIES:Rando semaine
CLASS:PUBLIC
DESCRIPTION:
DTSTART:20260618T070000Z
DTEND:20260618T070000Z
GEO:+43.319889;+6.287617
LOCATION:
ORGANIZER:
SEQUENCE:1
SUMMARY:Sur les traces de Decauville
TRANSP:OPAQUE
URL:http://www.apedibus.fr/index.php/accueil/programme-des-randonnees/evene
 ment-a-venir/2265-thu-18-06-26
END:VEVENT
END:VCALENDAR
