BEGIN:VCALENDAR
VERSION:2.0
PRODID:-//A Pedibus//NONSGML kigkonsult.se iCalcreator 2.41.92//
CALSCALE:GREGORIAN
METHOD:PUBLISH
UID:63343666-3864-4639-b663-353239373563
X-WR-CALNAME:iCagenda
X-WR-CALDESC:Event Management Extension for Joomla!
X-WR-RELCALID:3E26604A-50F4-4449-8B3E-E4F4932D05B5
X-WR-TIMEZONE:Europe/Paris
BEGIN:VTIMEZONE
TZID:Europe/Paris
TZUNTIL:20271031T010000Z
BEGIN:STANDARD
TZNAME:CET
DTSTART:20251026T030000
TZOFFSETFROM:+0200
TZOFFSETTO:+0100
RDATE:20261025T030000
END:STANDARD
BEGIN:DAYLIGHT
TZNAME:CEST
DTSTART:20260329T020000
TZOFFSETFROM:+0100
TZOFFSETTO:+0200
RDATE:20270328T020000
END:DAYLIGHT
END:VTIMEZONE
BEGIN:VEVENT
UID:31616333-3731-4137-b966-613366626664
DTSTAMP:20260421T123932Z
CATEGORIES:Rando douce
CLASS:PUBLIC
DESCRIPTION:
DTSTART:20260429T080000Z
DTEND:20260429T080000Z
GEO:+43.493423;+5.805041
LOCATION:
ORGANIZER:
SEQUENCE:1
SUMMARY:Balisage pour Festi'Rando
TRANSP:OPAQUE
URL:http://www.apedibus.fr/index.php/accueil/programme-des-randonnees/evene
 ment-a-venir/2255-rd-wed-29-04-26
END:VEVENT
END:VCALENDAR
